BEGIN:VCALENDAR
VERSION:2.0
PRODID:-//LCSARO - ECPv6.15.20//NONSGML v1.0//EN
CALSCALE:GREGORIAN
METHOD:PUBLISH
X-ORIGINAL-URL:https://www.lcsaro.org
X-WR-CALDESC:Events for LCSARO
REFRESH-INTERVAL;VALUE=DURATION:PT1H
X-Robots-Tag:noindex
X-PUBLISHED-TTL:PT1H
BEGIN:VTIMEZONE
TZID:America/Los_Angeles
BEGIN:DAYLIGHT
TZOFFSETFROM:-0800
TZOFFSETTO:-0700
TZNAME:PDT
DTSTART:20160313T100000
END:DAYLIGHT
BEGIN:STANDARD
TZOFFSETFROM:-0700
TZOFFSETTO:-0800
TZNAME:PST
DTSTART:20161106T090000
END:STANDARD
BEGIN:DAYLIGHT
TZOFFSETFROM:-0800
TZOFFSETTO:-0700
TZNAME:PDT
DTSTART:20170312T100000
END:DAYLIGHT
BEGIN:STANDARD
TZOFFSETFROM:-0700
TZOFFSETTO:-0800
TZNAME:PST
DTSTART:20171105T090000
END:STANDARD
BEGIN:DAYLIGHT
TZOFFSETFROM:-0800
TZOFFSETTO:-0700
TZNAME:PDT
DTSTART:20180311T100000
END:DAYLIGHT
BEGIN:STANDARD
TZOFFSETFROM:-0700
TZOFFSETTO:-0800
TZNAME:PST
DTSTART:20181104T090000
END:STANDARD
BEGIN:DAYLIGHT
TZOFFSETFROM:-0800
TZOFFSETTO:-0700
TZNAME:PDT
DTSTART:20190310T100000
END:DAYLIGHT
BEGIN:STANDARD
TZOFFSETFROM:-0700
TZOFFSETTO:-0800
TZNAME:PST
DTSTART:20191103T090000
END:STANDARD
BEGIN:DAYLIGHT
TZOFFSETFROM:-0800
TZOFFSETTO:-0700
TZNAME:PDT
DTSTART:20200308T100000
END:DAYLIGHT
BEGIN:STANDARD
TZOFFSETFROM:-0700
TZOFFSETTO:-0800
TZNAME:PST
DTSTART:20201101T090000
END:STANDARD
END:VTIMEZONE
BEGIN:VEVENT
DTSTART;TZID=America/Los_Angeles:20191110T080000
DTEND;TZID=America/Los_Angeles:20191110T170000
DTSTAMP:20260422T195033
CREATED:20191110T144327Z
LAST-MODIFIED:20191110T144327Z
UID:975-1573372800-1573405200@www.lcsaro.org
SUMMARY:November meeting is Monday the 11th
DESCRIPTION:At the courthouse.  1900 hrs room 175 \n  \nSee you then\, brent
URL:https://www.lcsaro.org/event/november-meeting-is-monday-the-11th/
END:VEVENT
BEGIN:VEVENT
DTSTART;TZID=America/Los_Angeles:20191010T080000
DTEND;TZID=America/Los_Angeles:20191010T170000
DTSTAMP:20260422T195033
CREATED:20191010T124236Z
LAST-MODIFIED:20191010T124236Z
UID:971-1570694400-1570726800@www.lcsaro.org
SUMMARY:October meeting
DESCRIPTION:Will be Monday the 14thof October.  We will be meeting at the courthouse at 1900. \nWe will be passing out service pins in addition to other topics. \n  \nBrent
URL:https://www.lcsaro.org/event/october-meeting/
END:VEVENT
BEGIN:VEVENT
DTSTART;VALUE=DATE:20190907
DTEND;VALUE=DATE:20190908
DTSTAMP:20260422T195033
CREATED:20190610T182943Z
LAST-MODIFIED:20190610T182943Z
UID:947-1567814400-1567900799@www.lcsaro.org
SUMMARY:McKenzie River Trail Run support
DESCRIPTION:Contact Christopher if you wish assist in this event.
URL:https://www.lcsaro.org/event/mckenzie-river-trail-run-support/
END:VEVENT
BEGIN:VEVENT
DTSTART;TZID=America/Los_Angeles:20190905T080000
DTEND;TZID=America/Los_Angeles:20190905T170000
DTSTAMP:20260422T195033
CREATED:20190905T164106Z
LAST-MODIFIED:20190905T164106Z
UID:968-1567670400-1567702800@www.lcsaro.org
SUMMARY:Meeting for September
DESCRIPTION:The LCSARO meeting for September will be Monday the 9th at the courthouse at 1900 hours. \nSend me an email via the contact form if you desire to attend and are not a member. \nThank you\, \nBrent
URL:https://www.lcsaro.org/event/meeting-for-september/
END:VEVENT
BEGIN:VEVENT
DTSTART;VALUE=DATE:20190817
DTEND;VALUE=DATE:20190818
DTSTAMP:20260422T195033
CREATED:20190610T182813Z
LAST-MODIFIED:20190610T182813Z
UID:944-1566000000-1566086399@www.lcsaro.org
SUMMARY:Waldo 100K
DESCRIPTION:Contact Matt if you wish to assist in this event
URL:https://www.lcsaro.org/event/waldo-100k/
END:VEVENT
BEGIN:VEVENT
DTSTART;TZID=America/Los_Angeles:20190812T190000
DTEND;TZID=America/Los_Angeles:20190812T210000
DTSTAMP:20260422T195033
CREATED:20190610T183355Z
LAST-MODIFIED:20190610T183355Z
UID:953-1565636400-1565643600@www.lcsaro.org
SUMMARY:LCSARO Meeting
DESCRIPTION:
URL:https://www.lcsaro.org/event/lcsaro-meeting-2/
END:VEVENT
BEGIN:VEVENT
DTSTART;TZID=America/Los_Angeles:20190808T080000
DTEND;TZID=America/Los_Angeles:20190808T170000
DTSTAMP:20260422T195033
CREATED:20190808T155304Z
LAST-MODIFIED:20190808T155304Z
UID:964-1565251200-1565283600@www.lcsaro.org
SUMMARY:August meeting Monday the 12th
DESCRIPTION:At the courthouse at 1900. \n  \nIf you desire to attend and are not a member send an email to me. \n  \nBrent
URL:https://www.lcsaro.org/event/august-meeting-monday-the-12th/
END:VEVENT
BEGIN:VEVENT
DTSTART;VALUE=DATE:20190803
DTEND;VALUE=DATE:20190804
DTSTAMP:20260422T195033
CREATED:20190610T182517Z
LAST-MODIFIED:20190610T182517Z
UID:941-1564790400-1564876799@www.lcsaro.org
SUMMARY:Cascade cream Puff
DESCRIPTION:Contact Christopher if interested in volunteering
URL:https://www.lcsaro.org/event/cascade-cream-puff/
END:VEVENT
BEGIN:VEVENT
DTSTART;TZID=America/Los_Angeles:20190725T190000
DTEND;TZID=America/Los_Angeles:20190725T203000
DTSTAMP:20260422T195033
CREATED:20190610T200849Z
LAST-MODIFIED:20190610T200849Z
UID:955-1564081200-1564086600@www.lcsaro.org
SUMMARY:Waldo Planning meeting
DESCRIPTION:Norkenzie church
URL:https://www.lcsaro.org/event/waldo-planning-meeting/
END:VEVENT
BEGIN:VEVENT
DTSTART;TZID=America/Los_Angeles:20190708T190000
DTEND;TZID=America/Los_Angeles:20190708T210000
DTSTAMP:20260422T195033
CREATED:20190610T183135Z
LAST-MODIFIED:20190610T183135Z
UID:951-1562612400-1562619600@www.lcsaro.org
SUMMARY:LCSARO meeting
DESCRIPTION:
URL:https://www.lcsaro.org/event/lcsaro-meeting/
END:VEVENT
BEGIN:VEVENT
DTSTART;TZID=America/Los_Angeles:20190706T080000
DTEND;TZID=America/Los_Angeles:20190706T170000
DTSTAMP:20260422T195033
CREATED:20190706T160106Z
LAST-MODIFIED:20190706T160106Z
UID:959-1562400000-1562432400@www.lcsaro.org
SUMMARY:July meeting at shops
DESCRIPTION:The July meeting will be at the county shops at 1900 on Monday the 8th. \n  \nIf you are not a member and desire to attend send me an email. \n  \nBrent
URL:https://www.lcsaro.org/event/july-meeting-at-shops/
END:VEVENT
BEGIN:VEVENT
DTSTART;VALUE=DATE:20190704
DTEND;VALUE=DATE:20190705
DTSTAMP:20260422T195033
CREATED:20190610T183039Z
LAST-MODIFIED:20190610T183039Z
UID:949-1562198400-1562284799@www.lcsaro.org
SUMMARY:Independence day!
DESCRIPTION:
URL:https://www.lcsaro.org/event/independence-day/
END:VEVENT
BEGIN:VEVENT
DTSTART;TZID=America/Los_Angeles:20190622T110000
DTEND;TZID=America/Los_Angeles:20190622T190000
DTSTAMP:20260422T195033
CREATED:20190610T182340Z
LAST-MODIFIED:20190610T182340Z
UID:939-1561201200-1561230000@www.lcsaro.org
SUMMARY:Field Day
DESCRIPTION:Caffato coffee
URL:https://www.lcsaro.org/event/field-day/
END:VEVENT
BEGIN:VEVENT
DTSTART;TZID=America/Los_Angeles:20190610T190000
DTEND;TZID=America/Los_Angeles:20190610T210000
DTSTAMP:20260422T195033
CREATED:20190610T182233Z
LAST-MODIFIED:20190610T182233Z
UID:937-1560193200-1560200400@www.lcsaro.org
SUMMARY:LCSARO meeting at courthouse
DESCRIPTION:1900 room 175
URL:https://www.lcsaro.org/event/lcsaro-meeting-at-courthouse/
END:VEVENT
BEGIN:VEVENT
DTSTART;VALUE=DATE:20180908
DTEND;VALUE=DATE:20180909
DTSTAMP:20260422T195033
CREATED:20180129T161958Z
LAST-MODIFIED:20180129T161958Z
UID:801-1536364800-1536451199@www.lcsaro.org
SUMMARY:McKenzie river trail run Sept 8 - yep\, it's a go!
DESCRIPTION:The McKenzie River trail run will be on Sept 8. \nWe met with the new organizers and it looks like a great crew! \nContact Andrew or Christopher if you can participate. \n 
URL:https://www.lcsaro.org/event/mckenzie-river-trail-run-sept-8/
END:VEVENT
BEGIN:VEVENT
DTSTART;VALUE=DATE:20180818
DTEND;VALUE=DATE:20180819
DTSTAMP:20260422T195033
CREATED:20180109T142803Z
LAST-MODIFIED:20180109T142803Z
UID:728-1534550400-1534636799@www.lcsaro.org
SUMMARY:Waldo Ultra - save this day!
DESCRIPTION:The Waldo Ultra is scheduled for August 18 this year.   Our response TBA.
URL:https://www.lcsaro.org/event/waldo18/
END:VEVENT
BEGIN:VEVENT
DTSTART;VALUE=DATE:20180804
DTEND;VALUE=DATE:20180805
DTSTAMP:20260422T195033
CREATED:20180109T143115Z
LAST-MODIFIED:20180109T143115Z
UID:730-1533340800-1533427199@www.lcsaro.org
SUMMARY:Cascade Cream Puff - Save this date!
DESCRIPTION:The event this year is on August 4.  Details of our response to follow.
URL:https://www.lcsaro.org/event/ccp18/
END:VEVENT
BEGIN:VEVENT
DTSTART;TZID=America/Los_Angeles:20180312T190000
DTEND;TZID=America/Los_Angeles:20180312T210000
DTSTAMP:20260422T195033
CREATED:20180117T155056Z
LAST-MODIFIED:20180117T155056Z
UID:765-1520881200-1520888400@www.lcsaro.org
SUMMARY:March meeting 1900 hours at the courthouse
DESCRIPTION:Tentative meeting location at the courthouse in room 175.  Check here for updates. \n  \nIf you are not a member and desire to attend please contact us using the contact link.
URL:https://www.lcsaro.org/event/march-meeting-1900-hours-at-the-courthouse/
END:VEVENT
BEGIN:VEVENT
DTSTART;TZID=America/Los_Angeles:20180212T190000
DTEND;TZID=America/Los_Angeles:20180212T210000
DTSTAMP:20260422T195033
CREATED:20180109T142152Z
LAST-MODIFIED:20180109T142152Z
UID:726-1518462000-1518469200@www.lcsaro.org
SUMMARY:Meeting for February
DESCRIPTION:The meeting for February is currently scheduled for February 12 in room 175 at the courthouse.  Normal time would be 1900-2100.  Check here for updates. \nIf you are not a member and desire to attend please contact me via the contact form. \n  \nBrent
URL:https://www.lcsaro.org/event/meeting-feb18/
LOCATION:Lane County Sheriff’s Office\, 125 E. 8th Avenue\, Eugene\, OR\, 97401\, United States
END:VEVENT
BEGIN:VEVENT
DTSTART;TZID=America/Los_Angeles:20180203T080000
DTEND;TZID=America/Los_Angeles:20180203T100000
DTSTAMP:20260422T195033
CREATED:20180108T201908Z
LAST-MODIFIED:20180108T201908Z
UID:719-1517644800-1517652000@www.lcsaro.org
SUMMARY:Simplex Exercise
DESCRIPTION:LCSARO will be conducting a simplex test at key county locations such as fire stations\, hospitals\, and public meeting places. \nIf you would like to participate\, please reach out via the contact page.
URL:https://www.lcsaro.org/event/simplex-feb18/
END:VEVENT
BEGIN:VEVENT
DTSTART;TZID=America/Los_Angeles:20180108T190000
DTEND;TZID=America/Los_Angeles:20180108T190000
DTSTAMP:20260422T195033
CREATED:20180106T222709Z
LAST-MODIFIED:20180106T222709Z
UID:524-1515438000-1515438000@www.lcsaro.org
SUMMARY:January Meeting
DESCRIPTION:The meeting for January is on Monday the 8th at 1900 at he courthouse. If you desire to attend an are not a member send me an email. Regards\, Brent
URL:https://www.lcsaro.org/event/meeting-jan18/
LOCATION:Lane County Sheriff’s Office\, 125 E. 8th Avenue\, Eugene\, OR\, 97401\, United States
END:VEVENT
BEGIN:VEVENT
DTSTART;TZID=America/Los_Angeles:20171211T190000
DTEND;TZID=America/Los_Angeles:20171211T190000
DTSTAMP:20260422T195033
CREATED:20180106T223350Z
LAST-MODIFIED:20180106T223350Z
UID:531-1513018800-1513018800@www.lcsaro.org
SUMMARY:December Meeting
DESCRIPTION:The meeting for December is our general meeting where we elect board members and receive committee reports.\nContact w7ril if you are interested in a board position. Minimum qualifications for the board is a member in good standing for one year. \nDecember 11th at 1900 in room 175 of the courthouse. If you are not a member and desire to attend please contact a board member. \nThank you\, Brent
URL:https://www.lcsaro.org/event/meeting-dec17/
LOCATION:Lane County Sheriff’s Office\, 125 E. 8th Avenue\, Eugene\, OR\, 97401\, United States
END:VEVENT
BEGIN:VEVENT
DTSTART;TZID=America/Los_Angeles:20171113T190000
DTEND;TZID=America/Los_Angeles:20171113T190000
DTSTAMP:20260422T195033
CREATED:20180106T223620Z
LAST-MODIFIED:20180106T223620Z
UID:534-1510599600-1510599600@www.lcsaro.org
SUMMARY:November Meeting
DESCRIPTION:At the courthouse at 1900. We will be having a guest speaker from Mountain Wave talking about DMR. \nBrent
URL:https://www.lcsaro.org/event/november-meeting/
LOCATION:Lane County Sheriff’s Office\, 125 E. 8th Avenue\, Eugene\, OR\, 97401\, United States
END:VEVENT
BEGIN:VEVENT
DTSTART;TZID=America/Los_Angeles:20171009T190000
DTEND;TZID=America/Los_Angeles:20171009T190000
DTSTAMP:20260422T195033
CREATED:20180106T230020Z
LAST-MODIFIED:20180106T230020Z
UID:550-1507575600-1507575600@www.lcsaro.org
SUMMARY:October Meeting
DESCRIPTION:The meeting for October will be at the courthouse at 1900 on Monday the 9th. If you are not a member and desire to attend please send an email via the contact page.
URL:https://www.lcsaro.org/event/meeting-oct17/
LOCATION:Lane County Sheriff’s Office\, 125 E. 8th Avenue\, Eugene\, OR\, 97401\, United States
END:VEVENT
BEGIN:VEVENT
DTSTART;TZID=America/Los_Angeles:20170911T190000
DTEND;TZID=America/Los_Angeles:20170911T190000
DTSTAMP:20260422T195033
CREATED:20180106T230139Z
LAST-MODIFIED:20180106T230139Z
UID:552-1505156400-1505156400@www.lcsaro.org
SUMMARY:September Meeting
DESCRIPTION:The meeting for this month will be at the courthouse at 1900 on Monday the 11. \nBrent
URL:https://www.lcsaro.org/event/meeting-sept17/
LOCATION:Lane County Sheriff’s Office\, 125 E. 8th Avenue\, Eugene\, OR\, 97401\, United States
END:VEVENT
BEGIN:VEVENT
DTSTART;TZID=America/Los_Angeles:20170814T190000
DTEND;TZID=America/Los_Angeles:20170814T190000
DTSTAMP:20260422T195033
CREATED:20180106T230251Z
LAST-MODIFIED:20180106T230251Z
UID:554-1502737200-1502737200@www.lcsaro.org
SUMMARY:August Meeting
DESCRIPTION:The meeting for August will be on Monday the 14th at 1900.\nIf you are not a member and desire to attend please contact a board member.\nSee you there. \nBrent
URL:https://www.lcsaro.org/event/meeting-aug17/
LOCATION:Lane County Sheriff’s Office\, 125 E. 8th Avenue\, Eugene\, OR\, 97401\, United States
END:VEVENT
BEGIN:VEVENT
DTSTART;TZID=America/Los_Angeles:20170710T190000
DTEND;TZID=America/Los_Angeles:20170710T190000
DTSTAMP:20260422T195033
CREATED:20180106T230407Z
LAST-MODIFIED:20180106T230407Z
UID:556-1499713200-1499713200@www.lcsaro.org
SUMMARY:July Meeting
DESCRIPTION:The July meeting will be on July 10 at 1900 at the courthouse. \nThank you
URL:https://www.lcsaro.org/event/meeting-jul17/
LOCATION:Lane County Sheriff’s Office\, 125 E. 8th Avenue\, Eugene\, OR\, 97401\, United States
END:VEVENT
BEGIN:VEVENT
DTSTART;TZID=America/Los_Angeles:20170410T190000
DTEND;TZID=America/Los_Angeles:20170410T190000
DTSTAMP:20260422T195033
CREATED:20180106T224254Z
LAST-MODIFIED:20180106T224254Z
UID:538-1491850800-1491850800@www.lcsaro.org
SUMMARY:April Meeting (at County Shops)
DESCRIPTION:The meeting for April will be on April 10 at the shops. We will be building antennas and giving tours to folks that are not familiar with the area. \nIf you are not a member and desire to attend send me a email. \nBrent
URL:https://www.lcsaro.org/event/meeting-apr17/
LOCATION:Lane County Public Works\, 3040 N Delta Hwy\, Eugene\, OR\, 97408\, United States
END:VEVENT
BEGIN:VEVENT
DTSTART;TZID=America/Los_Angeles:20170313T190000
DTEND;TZID=America/Los_Angeles:20170313T190000
DTSTAMP:20260422T195033
CREATED:20180106T230529Z
LAST-MODIFIED:20180106T230529Z
UID:558-1489431600-1489431600@www.lcsaro.org
SUMMARY:March Meeting
DESCRIPTION:Is at the courthouse 1900 Monday the 13th. \nSee you there.\nBrent
URL:https://www.lcsaro.org/event/meeting-mar17/
LOCATION:Lane County Sheriff’s Office\, 125 E. 8th Avenue\, Eugene\, OR\, 97401\, United States
END:VEVENT
BEGIN:VEVENT
DTSTART;TZID=America/Los_Angeles:20170109T190000
DTEND;TZID=America/Los_Angeles:20170109T190000
DTSTAMP:20260422T195033
CREATED:20180106T230813Z
LAST-MODIFIED:20180106T230813Z
UID:560-1483988400-1483988400@www.lcsaro.org
SUMMARY:Cancelled - January Meeting
DESCRIPTION:Update 08-Jan: \n\nWe will schedule the activity on the 21st via email/phone. \n\n  \nOriginal: \nThe meeting for January will be on Monday January 9th at 1900 hours. This will be held at the courthouse in room 175. We will be prepping for our January 21 exercise. If you are not a member and desire to addend please email me. Regards\, Brent
URL:https://www.lcsaro.org/event/meeting-jan17/
LOCATION:Lane County Sheriff’s Office\, 125 E. 8th Avenue\, Eugene\, OR\, 97401\, United States
END:VEVENT
END:VCALENDAR