BEGIN:VCALENDAR
VERSION:2.0
PRODID:-//LCSARO - ECPv6.15.20//NONSGML v1.0//EN
CALSCALE:GREGORIAN
METHOD:PUBLISH
X-WR-CALNAME:LCSARO
X-ORIGINAL-URL:https://www.lcsaro.org
X-WR-CALDESC:Events for LCSARO
REFRESH-INTERVAL;VALUE=DURATION:PT1H
X-Robots-Tag:noindex
X-PUBLISHED-TTL:PT1H
BEGIN:VTIMEZONE
TZID:America/Los_Angeles
BEGIN:DAYLIGHT
TZOFFSETFROM:-0800
TZOFFSETTO:-0700
TZNAME:PDT
DTSTART:20120311T100000
END:DAYLIGHT
BEGIN:STANDARD
TZOFFSETFROM:-0700
TZOFFSETTO:-0800
TZNAME:PST
DTSTART:20121104T090000
END:STANDARD
BEGIN:DAYLIGHT
TZOFFSETFROM:-0800
TZOFFSETTO:-0700
TZNAME:PDT
DTSTART:20130310T100000
END:DAYLIGHT
BEGIN:STANDARD
TZOFFSETFROM:-0700
TZOFFSETTO:-0800
TZNAME:PST
DTSTART:20131103T090000
END:STANDARD
BEGIN:DAYLIGHT
TZOFFSETFROM:-0800
TZOFFSETTO:-0700
TZNAME:PDT
DTSTART:20140309T100000
END:DAYLIGHT
BEGIN:STANDARD
TZOFFSETFROM:-0700
TZOFFSETTO:-0800
TZNAME:PST
DTSTART:20141102T090000
END:STANDARD
BEGIN:DAYLIGHT
TZOFFSETFROM:-0800
TZOFFSETTO:-0700
TZNAME:PDT
DTSTART:20150308T100000
END:DAYLIGHT
BEGIN:STANDARD
TZOFFSETFROM:-0700
TZOFFSETTO:-0800
TZNAME:PST
DTSTART:20151101T090000
END:STANDARD
BEGIN:DAYLIGHT
TZOFFSETFROM:-0800
TZOFFSETTO:-0700
TZNAME:PDT
DTSTART:20160313T100000
END:DAYLIGHT
BEGIN:STANDARD
TZOFFSETFROM:-0700
TZOFFSETTO:-0800
TZNAME:PST
DTSTART:20161106T090000
END:STANDARD
BEGIN:DAYLIGHT
TZOFFSETFROM:-0800
TZOFFSETTO:-0700
TZNAME:PDT
DTSTART:20170312T100000
END:DAYLIGHT
BEGIN:STANDARD
TZOFFSETFROM:-0700
TZOFFSETTO:-0800
TZNAME:PST
DTSTART:20171105T090000
END:STANDARD
END:VTIMEZONE
BEGIN:VEVENT
DTSTART;TZID=America/Los_Angeles:20161212T190000
DTEND;TZID=America/Los_Angeles:20161212T190000
DTSTAMP:20260423T011549
CREATED:20180108T155739Z
LAST-MODIFIED:20180108T155739Z
UID:594-1481569200-1481569200@www.lcsaro.org
SUMMARY:December Meeting
DESCRIPTION:Hello\nOn Monday the 12th day of December is our general meeting where we elect board members and accept reports from groups for the years activities. We will also talk about the future of our group and plan for further activities. \nPlease contact either Randy Huntoon or Rob Cooley if you are interested in a position on the board. \nPlease bring a list of your current and tested vhf/uhf repeater frequencies along with tones to update our equipment in the radio room and the command trailer. \nWe should be meeting in room 175 at 1900 unless there is extended construction activity taking place. \nIf you are not a member please contact a board member to attend. \nThank you so much\, \nBrent
URL:https://www.lcsaro.org/event/meeting-dec16/
LOCATION:Lane County Sheriff’s Office\, 125 E. 8th Avenue\, Eugene\, OR\, 97401\, United States
END:VEVENT
BEGIN:VEVENT
DTSTART;TZID=America/Los_Angeles:20161114T190000
DTEND;TZID=America/Los_Angeles:20161114T190000
DTSTAMP:20260423T011549
CREATED:20180108T160313Z
LAST-MODIFIED:20180108T160313Z
UID:596-1479150000-1479150000@www.lcsaro.org
SUMMARY:November Meeting
DESCRIPTION:The meeting for November will be held at the American red cross building at 1900 on Monday the 14th. \nI’ll see you there. \nbrent
URL:https://www.lcsaro.org/event/meeting-nov16/
LOCATION:American Red Cross\, 440 E Broadway\, Eugene\, OR\, 97401\, United States
END:VEVENT
BEGIN:VEVENT
DTSTART;TZID=America/Los_Angeles:20160613T190000
DTEND;TZID=America/Los_Angeles:20160613T190000
DTSTAMP:20260423T011549
CREATED:20180108T160603Z
LAST-MODIFIED:20180108T160603Z
UID:599-1465844400-1465844400@www.lcsaro.org
SUMMARY:June Meeting
DESCRIPTION:The June meeting will be at 1900 in room 175 of the courthouse on the 13th.\nWe will be doing a AAR on CR. Please plan on attending even if you were unable to be there. This is what it is all about. \nIf you are not a member and desire to attend please send me a email. \nThere will also be a opportunity to demonstrate glove removal to complete your BBP for this year. \nBrent
URL:https://www.lcsaro.org/event/meeting-jun16/
LOCATION:Lane County Sheriff’s Office\, 125 E. 8th Avenue\, Eugene\, OR\, 97401\, United States
END:VEVENT
BEGIN:VEVENT
DTSTART;TZID=America/Los_Angeles:20160509T190000
DTEND;TZID=America/Los_Angeles:20160509T190000
DTSTAMP:20260423T011549
CREATED:20180108T160736Z
LAST-MODIFIED:20180108T160736Z
UID:601-1462820400-1462820400@www.lcsaro.org
SUMMARY:May Meeting (Members Only)
DESCRIPTION:The may meeting will be a member only training. You must register in advance. \nBrent
URL:https://www.lcsaro.org/event/meeting-may16/
LOCATION:Lane County Sheriff’s Office\, 125 E. 8th Avenue\, Eugene\, OR\, 97401\, United States
END:VEVENT
BEGIN:VEVENT
DTSTART;TZID=America/Los_Angeles:20160411T190000
DTEND;TZID=America/Los_Angeles:20160411T190000
DTSTAMP:20260423T011549
CREATED:20180108T160857Z
LAST-MODIFIED:20180108T160857Z
UID:603-1460401200-1460401200@www.lcsaro.org
SUMMARY:April Meeting
DESCRIPTION:The meeting for April is today Monday the 11th.\nThe meeting will be at the lane county shops\, 3040 N Delta. The area is locked up at night so make sure to arrive around 1845 if you are not a member and desire to attend.
URL:https://www.lcsaro.org/event/meeting-apr16/
LOCATION:Lane County Public Works\, 3040 N Delta Hwy\, Eugene\, OR\, 97408\, United States
END:VEVENT
BEGIN:VEVENT
DTSTART;TZID=America/Los_Angeles:20160111T190000
DTEND;TZID=America/Los_Angeles:20160111T190000
DTSTAMP:20260423T011549
CREATED:20180108T161005Z
LAST-MODIFIED:20180108T161005Z
UID:605-1452538800-1452538800@www.lcsaro.org
SUMMARY:January Meeting
DESCRIPTION:The meeting for January will be Monday the 11th at 1900 in Room 175 of the courthouse. \nIf you are not a member and desire to attend send me an email via the contact page. \nBrent
URL:https://www.lcsaro.org/event/meeting-jan16/
LOCATION:Lane County Sheriff’s Office\, 125 E. 8th Avenue\, Eugene\, OR\, 97401\, United States
END:VEVENT
BEGIN:VEVENT
DTSTART;TZID=America/Los_Angeles:20151214T190000
DTEND;TZID=America/Los_Angeles:20151214T190000
DTSTAMP:20260423T011549
CREATED:20180108T161447Z
LAST-MODIFIED:20180108T161447Z
UID:613-1450119600-1450119600@www.lcsaro.org
SUMMARY:December Meeting
DESCRIPTION:Our meeting for December is on the 14th at 1900 in the courthouse room 175. \nThis is our general meeting where we will be electing new board members. \nIf you are not a member and desire to attend send me an email. \nBrent
URL:https://www.lcsaro.org/event/meeting-dec15/
LOCATION:Lane County Sheriff’s Office\, 125 E. 8th Avenue\, Eugene\, OR\, 97401\, United States
END:VEVENT
BEGIN:VEVENT
DTSTART;TZID=America/Los_Angeles:20151012T190000
DTEND;TZID=America/Los_Angeles:20151012T190000
DTSTAMP:20260423T011549
CREATED:20180108T161638Z
LAST-MODIFIED:20180108T161638Z
UID:615-1444676400-1444676400@www.lcsaro.org
SUMMARY:October Meeting
DESCRIPTION:The meeting for October will be at the courthouse at 1900 this Monday the 12th at 1900. \nIf you desire to attend and are not a member send me a email via the contact page. \nBrent
URL:https://www.lcsaro.org/event/meeting-oct15/
LOCATION:Lane County Sheriff’s Office\, 125 E. 8th Avenue\, Eugene\, OR\, 97401\, United States
END:VEVENT
BEGIN:VEVENT
DTSTART;TZID=America/Los_Angeles:20150914T190000
DTEND;TZID=America/Los_Angeles:20150914T190000
DTSTAMP:20260423T011549
CREATED:20180108T161821Z
LAST-MODIFIED:20180108T161821Z
UID:617-1442257200-1442257200@www.lcsaro.org
SUMMARY:September Meeting
DESCRIPTION:The meeting for September is this Monday the 14th at the courthouse.  Time is 1900. \nWe will have a brief meeting followed by a ARES meeting led by Lane EC Thomas G. \nSee you there\, \nBrent
URL:https://www.lcsaro.org/event/meeting-sept15/
LOCATION:Lane County Sheriff’s Office\, 125 E. 8th Avenue\, Eugene\, OR\, 97401\, United States
END:VEVENT
BEGIN:VEVENT
DTSTART;TZID=America/Los_Angeles:20150810T190000
DTEND;TZID=America/Los_Angeles:20150810T190000
DTSTAMP:20260423T011549
CREATED:20180108T161942Z
LAST-MODIFIED:20180108T161942Z
UID:619-1439233200-1439233200@www.lcsaro.org
SUMMARY:August Meeting
DESCRIPTION:The meeting for August will be at the courthouse in room 175 at 1900 Monday the 10th. \nIf you are not a member and desire to attend please send me an email so that you are expected. \n  \nSee you there\, \nBrent
URL:https://www.lcsaro.org/event/meeting-aug15/
LOCATION:Lane County Sheriff’s Office\, 125 E. 8th Avenue\, Eugene\, OR\, 97401\, United States
END:VEVENT
BEGIN:VEVENT
DTSTART;TZID=America/Los_Angeles:20150713T190000
DTEND;TZID=America/Los_Angeles:20150713T190000
DTSTAMP:20260423T011549
CREATED:20180108T162208Z
LAST-MODIFIED:20180108T162208Z
UID:631-1436814000-1436814000@www.lcsaro.org
SUMMARY:July Meeting
DESCRIPTION:The LCSARO meeting for July will be a DF’ing field exercise.  We will be meeting at the courthouse parking lot at 1900 and dividing into teams.  There will be a ham radio beacon and a PLS beacon placed somewhere in Eugene/Springfield.\n\nPlease do not tune to the beacon frequency before the exercise starts.\n\nBring your HT and if you have a yagi bring it.  I will be bringing two sets of PLS equipment.\n\nPlease display your county ID during the exercise.\n\nSee you there\,\n\nBrent
URL:https://www.lcsaro.org/event/meeting-jul15/
LOCATION:Lane County Sheriff’s Office\, 125 E. 8th Avenue\, Eugene\, OR\, 97401\, United States
END:VEVENT
BEGIN:VEVENT
DTSTART;TZID=America/Los_Angeles:20150511T183000
DTEND;TZID=America/Los_Angeles:20150511T183000
DTSTAMP:20260423T011549
CREATED:20180108T162626Z
LAST-MODIFIED:20180108T162626Z
UID:633-1431369000-1431369000@www.lcsaro.org
SUMMARY:May Meeting
DESCRIPTION:The meeting for May is Monday the 11th at Alton Baker park.  This is an early start of 1830.  Meet by the group area. \nThis is a DF training done by Matt so bring your HT. \nSee you there. \nBrent
URL:https://www.lcsaro.org/event/meeting-may15/
LOCATION:Alton Baker Park\, 100 Day Island Rd\, Eugene\, OR\, 97401\, United States
END:VEVENT
BEGIN:VEVENT
DTSTART;TZID=America/Los_Angeles:20150413T183000
DTEND;TZID=America/Los_Angeles:20150413T183000
DTSTAMP:20260423T011549
CREATED:20180108T162746Z
LAST-MODIFIED:20180108T162746Z
UID:636-1428949800-1428949800@www.lcsaro.org
SUMMARY:April Meeting
DESCRIPTION:The meeting for April will be a trip to Cottage Grove to see the facility at the hospital.  We will be meeting at the shops early to carpool there.  Please arrive at the shops at 1830. \nApril 13 at 1830 at the shops \nIf you are not a member and desire to attend please send me an email. \nBrent
URL:https://www.lcsaro.org/event/meeting-apr15/
LOCATION:Lane County Public Works\, 3040 N Delta Hwy\, Eugene\, OR\, 97408\, United States
END:VEVENT
BEGIN:VEVENT
DTSTART;TZID=America/Los_Angeles:20150209T190000
DTEND;TZID=America/Los_Angeles:20150209T190000
DTSTAMP:20260423T011549
CREATED:20180108T162905Z
LAST-MODIFIED:20180108T162905Z
UID:638-1423508400-1423508400@www.lcsaro.org
SUMMARY:February Meeting
DESCRIPTION:The meeting is Monday the ninth at the courthouse at the usual time.   If you are not a member then you must contact me to arrange entry. \n  \nBrent
URL:https://www.lcsaro.org/event/meeting-feb15/
LOCATION:Lane County Sheriff’s Office\, 125 E. 8th Avenue\, Eugene\, OR\, 97401\, United States
END:VEVENT
BEGIN:VEVENT
DTSTART;TZID=America/Los_Angeles:20150119T190000
DTEND;TZID=America/Los_Angeles:20150119T190000
DTSTAMP:20260423T011549
CREATED:20180108T163019Z
LAST-MODIFIED:20180108T163019Z
UID:640-1421694000-1421694000@www.lcsaro.org
SUMMARY:January Meeting
DESCRIPTION:The January meeting will be on the 19th due to the game. \nIf you desire to attend send me an email \nBrent
URL:https://www.lcsaro.org/event/meeting-jan15/
LOCATION:Lane County Sheriff’s Office\, 125 E. 8th Avenue\, Eugene\, OR\, 97401\, United States
END:VEVENT
BEGIN:VEVENT
DTSTART;TZID=America/Los_Angeles:20141208T190000
DTEND;TZID=America/Los_Angeles:20141208T190000
DTSTAMP:20260423T011549
CREATED:20180108T164454Z
LAST-MODIFIED:20180108T164454Z
UID:655-1418065200-1418065200@www.lcsaro.org
SUMMARY:December Meeting
DESCRIPTION:The meeting for December will be Monday the 8th at 1900 in room 175 of the courthouse. \nThis is our general meeting where reports are given\, planning for next year happens and board elections take place. \nPlease plan on attending. \n  \nIf you are not a member and desire to attend contact a board member. \nBrent
URL:https://www.lcsaro.org/event/meeting-dec14/
LOCATION:Lane County Sheriff’s Office\, 125 E. 8th Avenue\, Eugene\, OR\, 97401\, United States
END:VEVENT
BEGIN:VEVENT
DTSTART;TZID=America/Los_Angeles:20141110T190000
DTEND;TZID=America/Los_Angeles:20141110T190000
DTSTAMP:20260423T011549
CREATED:20180108T164622Z
LAST-MODIFIED:20180108T164622Z
UID:657-1415646000-1415646000@www.lcsaro.org
SUMMARY:November Meeting
DESCRIPTION:The meeting for November will be on Monday the 10th at 1900.  This will be a field exercise in Eugene\, not at the courthouse.  If you are not a member and desire to attend send an email to me.   Brent
URL:https://www.lcsaro.org/event/meeting-nov14/
LOCATION:OR
END:VEVENT
BEGIN:VEVENT
DTSTART;TZID=America/Los_Angeles:20141013T190000
DTEND;TZID=America/Los_Angeles:20141013T190000
DTSTAMP:20260423T011549
CREATED:20180108T164822Z
LAST-MODIFIED:20180108T164822Z
UID:659-1413226800-1413226800@www.lcsaro.org
SUMMARY:October Meeting
DESCRIPTION:The meeting for October is at the Lane County Courthouse at 1900 on Monday the 13th of October.  If you are not a member and desire to attend you need to contact me to arrange admittance. \n  \nSee you there\, \nBrent
URL:https://www.lcsaro.org/event/meeting-oct14/
LOCATION:Lane County Sheriff’s Office\, 125 E. 8th Avenue\, Eugene\, OR\, 97401\, United States
END:VEVENT
BEGIN:VEVENT
DTSTART;TZID=America/Los_Angeles:20140714T190000
DTEND;TZID=America/Los_Angeles:20140714T190000
DTSTAMP:20260423T011549
CREATED:20180108T165014Z
LAST-MODIFIED:20180108T165014Z
UID:661-1405364400-1405364400@www.lcsaro.org
SUMMARY:July Meeting
DESCRIPTION:The meeting for July is at the Courthouse on Monday the 14th at 1900.  If you are not a member and desire to attend you must contact me. \n  \nRegards\, \nBrent
URL:https://www.lcsaro.org/event/meeting-jul14/
LOCATION:Lane County Sheriff’s Office\, 125 E. 8th Avenue\, Eugene\, OR\, 97401\, United States
END:VEVENT
BEGIN:VEVENT
DTSTART;TZID=America/Los_Angeles:20140609T190000
DTEND;TZID=America/Los_Angeles:20140609T190000
DTSTAMP:20260423T011549
CREATED:20180108T170256Z
LAST-MODIFIED:20180108T170256Z
UID:663-1402340400-1402340400@www.lcsaro.org
SUMMARY:June Meeting
DESCRIPTION:The LCSARO meeting for June will be at the Courthouse on June 9th at 1900.  John Miller will be attending.  This is the delayed meeting from December.  If you are not a member and desire to attend you must arrange in advance.  Email using the contact form on the website.\n\nRegards\,\n\nBrent
URL:https://www.lcsaro.org/event/meeting-jun14/
LOCATION:Lane County Sheriff’s Office\, 125 E. 8th Avenue\, Eugene\, OR\, 97401\, United States
END:VEVENT
BEGIN:VEVENT
DTSTART;TZID=America/Los_Angeles:20140512T190000
DTEND;TZID=America/Los_Angeles:20140512T190000
DTSTAMP:20260423T011549
CREATED:20180108T170442Z
LAST-MODIFIED:20180108T170442Z
UID:665-1399921200-1399921200@www.lcsaro.org
SUMMARY:May Meeting
DESCRIPTION:Hello\, \nThe meeting for may will on Monday may 12 at the shops. The training\meeting will be at 1900. Please park outside the gate and walk in. we possibly will run the van out to bring people in. \nIf you are not a member and desire to attend you must contact me in advance to arrange admittance. I will be out of town on the weekend before and unlikely return emails then. \nRegards\, \nBrent
URL:https://www.lcsaro.org/event/meeting-may14/
LOCATION:Lane County Public Works\, 3040 N Delta Hwy\, Eugene\, OR\, 97408\, United States
END:VEVENT
BEGIN:VEVENT
DTSTART;TZID=America/Los_Angeles:20140414T190000
DTEND;TZID=America/Los_Angeles:20140414T190000
DTSTAMP:20260423T011549
CREATED:20180108T170559Z
LAST-MODIFIED:20180108T170559Z
UID:667-1397502000-1397502000@www.lcsaro.org
SUMMARY:April Meeting
DESCRIPTION:The meeting for April will be Monday the 14th at the courthouse at 1900 hours.  If you are not a member you need to arrange in advance. \n  \nBrent
URL:https://www.lcsaro.org/event/meeting-apr14/
LOCATION:Lane County Sheriff’s Office\, 125 E. 8th Avenue\, Eugene\, OR\, 97401\, United States
END:VEVENT
BEGIN:VEVENT
DTSTART;TZID=America/Los_Angeles:20140310T190000
DTEND;TZID=America/Los_Angeles:20140310T190000
DTSTAMP:20260423T011549
CREATED:20180108T170724Z
LAST-MODIFIED:20180108T170724Z
UID:669-1394478000-1394478000@www.lcsaro.org
SUMMARY:March Meeting (Members Only)
DESCRIPTION:Hello\, \nThe March meeting is on the 10th and is a members only training. \nYou should be signed up in advance for the training. \nRegards\, \nBrent Hottle
URL:https://www.lcsaro.org/event/meeting-mar14/
LOCATION:Lane County Sheriff’s Office\, 125 E. 8th Avenue\, Eugene\, OR\, 97401\, United States
END:VEVENT
BEGIN:VEVENT
DTSTART;TZID=America/Los_Angeles:20140210T190000
DTEND;TZID=America/Los_Angeles:20140210T190000
DTSTAMP:20260423T011549
CREATED:20180108T170850Z
LAST-MODIFIED:20180108T170850Z
UID:671-1392058800-1392058800@www.lcsaro.org
SUMMARY:February Meeting
DESCRIPTION:Hello\, \nThe meeting for February will be on the 10th at 1900 in room 175 of the Courthouse. \nIf you are not a member and desire to attend please send me a email so that we can expect you.  The meeting is held in a secure area. \n  \nRegards\, \nBrent
URL:https://www.lcsaro.org/event/meeting-feb14/
LOCATION:Lane County Sheriff’s Office\, 125 E. 8th Avenue\, Eugene\, OR\, 97401\, United States
END:VEVENT
BEGIN:VEVENT
DTSTART;TZID=America/Los_Angeles:20140113T190000
DTEND;TZID=America/Los_Angeles:20140113T190000
DTSTAMP:20260423T011549
CREATED:20180108T171007Z
LAST-MODIFIED:20180108T171007Z
UID:674-1389639600-1389639600@www.lcsaro.org
SUMMARY:January Meeting
DESCRIPTION:Hello\,\n\nThe LCSARO meeting for January will be on Monday the 13th at1900 in room 175.\n\nIf you are not a member and desire to attend please send me a email.\n\nI’ll see you there\,\n\nBrent
URL:https://www.lcsaro.org/event/meeting-jan14/
LOCATION:Lane County Sheriff’s Office\, 125 E. 8th Avenue\, Eugene\, OR\, 97401\, United States
END:VEVENT
BEGIN:VEVENT
DTSTART;TZID=America/Los_Angeles:20131216T190000
DTEND;TZID=America/Los_Angeles:20131216T190000
DTSTAMP:20260423T011549
CREATED:20180108T171205Z
LAST-MODIFIED:20180108T171205Z
UID:676-1387220400-1387220400@www.lcsaro.org
SUMMARY:Rescheduled - December Meeting
DESCRIPTION:The rescheduled meeting for December will be at the courthouse Monday the 16th at 1900 in room 175.  Please plan on attending to elect the board for the following year and plan our activities.\n\nI hope that all survived the recent cold weather un-scathed.\n\nRegards\,  Brent\n\n\nOriginal:\n\n\nThe LCSARO meeting for December is on the 9th in room 175 of the courthouse at 1900.  The December meeting is our general meeting where committee reports are given\, planning for the following year is made and the election for the board is held.\n\nThis month John Miller will be there giving a brief presentation.\n\nIt is important that all LCSARO members attend and give their input.\n\nIf you are not a LCSARO member and you desire to attend please contact me.\n\nRegards\,\n\nBrent Hottle\nLCSARO
URL:https://www.lcsaro.org/event/meeting-dec13/
LOCATION:Lane County Sheriff’s Office\, 125 E. 8th Avenue\, Eugene\, OR\, 97401\, United States
END:VEVENT
BEGIN:VEVENT
DTSTART;TZID=America/Los_Angeles:20131111T190000
DTEND;TZID=America/Los_Angeles:20131111T190000
DTSTAMP:20260423T011549
CREATED:20180108T171455Z
LAST-MODIFIED:20180108T171455Z
UID:679-1384196400-1384196400@www.lcsaro.org
SUMMARY:November Meeting
DESCRIPTION:The meeting for November will be next Monday the 11th.  1900 hours in room 175 of the Lane County Courthouse Sheriffs office.  If you are not a member and desire to attend you must contact a board member to insure admittance.\n\nAmong other activities this month a nominating committee will be named for the purpose of naming interested folks to run for LCSARO board for 2014.  According to the bylaws the prospective board member must be a member in good standing for a year and be a licensed ham radio operator.  Positions open are:  President\, Vice President\, Secretary\, Treasurer\, Public Service coordinator and member at large.   If you are interested please approach a nominating committee member.  This group will not secede with out participation of members. If you have any interest at all please express it to the nominating committee or a current board member.
URL:https://www.lcsaro.org/event/meeting-nov13/
LOCATION:Lane County Sheriff’s Office\, 125 E. 8th Avenue\, Eugene\, OR\, 97401\, United States
END:VEVENT
BEGIN:VEVENT
DTSTART;TZID=America/Los_Angeles:20131014T190000
DTEND;TZID=America/Los_Angeles:20131014T190000
DTSTAMP:20260423T011549
CREATED:20180108T171647Z
LAST-MODIFIED:20180108T171647Z
UID:681-1381777200-1381777200@www.lcsaro.org
SUMMARY:October Meeting
DESCRIPTION:The meeting for October will be at the courthouse at 1900 on Monday the 14th.  We will be reviewing some new standards for SAR\, doing a SAR VHF radio class and hopefully voting in a couple of new members.\n\nIf you are not a member and desire to attend please contact a board member to ensure entry.\n\nSee you there.\n\nBrent
URL:https://www.lcsaro.org/event/meeting-oct13/
LOCATION:Lane County Sheriff’s Office\, 125 E. 8th Avenue\, Eugene\, OR\, 97401\, United States
END:VEVENT
BEGIN:VEVENT
DTSTART;TZID=America/Los_Angeles:20130909T190000
DTEND;TZID=America/Los_Angeles:20130909T190000
DTSTAMP:20260423T011549
CREATED:20180108T171825Z
LAST-MODIFIED:20180108T171825Z
UID:683-1378753200-1378753200@www.lcsaro.org
SUMMARY:September Meeting
DESCRIPTION:The meeting for Sept will be at the courthouse Monday the 9th at 1900. \nIf you are not a member and desire to attend you need to make prior arrangements. \n  \nSee you there\, \nBrent
URL:https://www.lcsaro.org/event/meeting-sept13/
LOCATION:Lane County Sheriff’s Office\, 125 E. 8th Avenue\, Eugene\, OR\, 97401\, United States
END:VEVENT
BEGIN:VEVENT
DTSTART;TZID=America/Los_Angeles:20130812T190000
DTEND;TZID=America/Los_Angeles:20130812T190000
DTSTAMP:20260423T011549
CREATED:20180108T171958Z
LAST-MODIFIED:20180108T171958Z
UID:685-1376334000-1376334000@www.lcsaro.org
SUMMARY:August Meeting
DESCRIPTION:The August meeting will be at the Lane County Courthouse on Monday the 12th at 1900.  If you are not a member you must arrange access with me in advance.  Use the contact page on this website. \nSee you there\, \nBrent
URL:https://www.lcsaro.org/event/meeting-aug13/
LOCATION:Lane County Sheriff’s Office\, 125 E. 8th Avenue\, Eugene\, OR\, 97401\, United States
END:VEVENT
END:VCALENDAR