BEGIN:VCALENDAR
VERSION:2.0
PRODID:-//LCSARO - ECPv6.15.20//NONSGML v1.0//EN
CALSCALE:GREGORIAN
METHOD:PUBLISH
X-WR-CALNAME:LCSARO
X-ORIGINAL-URL:https://www.lcsaro.org
X-WR-CALDESC:Events for LCSARO
REFRESH-INTERVAL;VALUE=DURATION:PT1H
X-Robots-Tag:noindex
X-PUBLISHED-TTL:PT1H
BEGIN:VTIMEZONE
TZID:America/Los_Angeles
BEGIN:DAYLIGHT
TZOFFSETFROM:-0800
TZOFFSETTO:-0700
TZNAME:PDT
DTSTART:20120311T100000
END:DAYLIGHT
BEGIN:STANDARD
TZOFFSETFROM:-0700
TZOFFSETTO:-0800
TZNAME:PST
DTSTART:20121104T090000
END:STANDARD
BEGIN:DAYLIGHT
TZOFFSETFROM:-0800
TZOFFSETTO:-0700
TZNAME:PDT
DTSTART:20130310T100000
END:DAYLIGHT
BEGIN:STANDARD
TZOFFSETFROM:-0700
TZOFFSETTO:-0800
TZNAME:PST
DTSTART:20131103T090000
END:STANDARD
BEGIN:DAYLIGHT
TZOFFSETFROM:-0800
TZOFFSETTO:-0700
TZNAME:PDT
DTSTART:20140309T100000
END:DAYLIGHT
BEGIN:STANDARD
TZOFFSETFROM:-0700
TZOFFSETTO:-0800
TZNAME:PST
DTSTART:20141102T090000
END:STANDARD
END:VTIMEZONE
BEGIN:VEVENT
DTSTART;TZID=America/Los_Angeles:20130708T190000
DTEND;TZID=America/Los_Angeles:20130708T190000
DTSTAMP:20260423T062312
CREATED:20180108T172159Z
LAST-MODIFIED:20180108T172159Z
UID:687-1373310000-1373310000@www.lcsaro.org
SUMMARY:July Meeting
DESCRIPTION:The meeting for July will be a field trip to local west lane county stations for a facilities familiarization.  We will be meeting in the lot outside the shops at 1845 for a leave time of 1900 on Monday.  I am trying to arrange a van but regardless we will car pool.\n\nSee you there.\n\nBrent
URL:https://www.lcsaro.org/event/meeting-jul13/
LOCATION:Lane County Sheriff’s Office\, 125 E. 8th Avenue\, Eugene\, OR\, 97401\, United States
END:VEVENT
BEGIN:VEVENT
DTSTART;TZID=America/Los_Angeles:20130610T190000
DTEND;TZID=America/Los_Angeles:20130610T190000
DTSTAMP:20260423T062312
CREATED:20180108T172349Z
LAST-MODIFIED:20180108T172349Z
UID:689-1370890800-1370890800@www.lcsaro.org
SUMMARY:June Meeting
DESCRIPTION:The June LCSARO meeting will be Monday the 10th at the Lane County Courthouse at 1900. If you are not a member and desire to attend please use the contact form to arrange entrance. \nRegards. \nBrent Hottle
URL:https://www.lcsaro.org/event/meeting-jun13/
LOCATION:Lane County Sheriff’s Office\, 125 E. 8th Avenue\, Eugene\, OR\, 97401\, United States
END:VEVENT
BEGIN:VEVENT
DTSTART;TZID=America/Los_Angeles:20130513T190000
DTEND;TZID=America/Los_Angeles:20130513T190000
DTSTAMP:20260423T062312
CREATED:20180108T172625Z
LAST-MODIFIED:20180108T172625Z
UID:691-1368471600-1368471600@www.lcsaro.org
SUMMARY:May Meeting
DESCRIPTION:If you are not a member and desire to attend the meeting you need to arrange in advance.  There is an email link on this website.\n\nThe meeting for May will be at the lane county shops on May 13 at 1900.\n\nWe will be setting tables up in one of the boat bays to use as work stations.\n\nAgenda:\n\nNew member vote\n\nPowerpoles:  Bring any equipment that you need anderson power poles attached to.  We will have powerpoles\, some wire and crimpers/solder irons.  Remember\, powerpoles allow you to use your equipment on others’ system –  they are the common\, simple and reliable power connector\n\nConnectors:  If you have been avoiding attaching a pl259 connector to some feed line well\, now is the time.  We will have solder stations available and experienced folks to help.  If you have some other need for a cable say a sma cable to a 259 then we should be able to help.  Other examples would be crimp on 259 connectors for LMR 400 (Matt has crimping tool).\n\nRandy will have his tape measure yagi there so if you want to build one send him an email and he will tell you what supplies to have on hand.\n\n\nPlease\, please\, please:  Send email to me or Matt ASAP with what ever special supplies/needs you have.  I will be out of town 5-10 May and some supplies are not available locally and will need to be ordered – so email ASAP.\n\nA small donation to our repeater fund to defray the cost of supplies will be appreciated.\n\nQuestions?  Well\, send an email.\n\nSee you there.\n\nBrent
URL:https://www.lcsaro.org/event/meeting-may13/
LOCATION:Lane County Public Works\, 3040 N Delta Hwy\, Eugene\, OR\, 97408\, United States
END:VEVENT
BEGIN:VEVENT
DTSTART;TZID=America/Los_Angeles:20130311T190000
DTEND;TZID=America/Los_Angeles:20130311T190000
DTSTAMP:20260423T062312
CREATED:20180108T172811Z
LAST-MODIFIED:20180108T172811Z
UID:693-1363028400-1363028400@www.lcsaro.org
SUMMARY:March Meeting
DESCRIPTION:The meeting for March will be this Monday starting at 1845 with a simplex check in.  Please check in from your home or business with this information:\n\nCall sign\, location\, equipment (HT\, Mobil or base).  Please give this information in a clear slow pace.  Be prepared to use phonetics if there is an issue.\n\nAfter checking in move to your nearest fire station\, school or local gathering place and check in from there.  Continue moving and checking in until you arrive at the courthouse by 2000 at the latest for a brief meeting.  If you are unable to connect from your home or business attempt to check in on the Indian Ridge repeater.  Please do not check in on the repeater unless you are unable to connect with simplex.\n\nSimplex:  147.58\n\nRepeater:  145.37 tone 100\n\nIf you are not a member feel free to check in but if you are coming to the courthouse please make me aware.\n\nSee you there.\n\nBrent
URL:https://www.lcsaro.org/event/meeting-mar13/
LOCATION:Lane County Sheriff’s Office\, 125 E. 8th Avenue\, Eugene\, OR\, 97401\, United States
END:VEVENT
BEGIN:VEVENT
DTSTART;TZID=America/Los_Angeles:20130114T190000
DTEND;TZID=America/Los_Angeles:20130114T190000
DTSTAMP:20260423T062312
CREATED:20180108T172923Z
LAST-MODIFIED:20180108T172923Z
UID:695-1358190000-1358190000@www.lcsaro.org
SUMMARY:January Meeting
DESCRIPTION:The January meeting will be at the LC shops at 1830 on Monday the 14th.  Remember that there is no parking in the back.  If you are not a member and you desire to attend the meeting please use the contact link to send me a message. \n  \nRegards\,  Brent
URL:https://www.lcsaro.org/event/meeting-jan13/
LOCATION:Lane County Public Works\, 3040 N Delta Hwy\, Eugene\, OR\, 97408\, United States
END:VEVENT
END:VCALENDAR